Workbook

Sheet Subject
A1: No | B1: 学生番号 | C1: 名前 | D1: work
A2: =ROW()-1 -> 1 | B2: 172G033 | C2: 渋谷 優希 | D2: =RAND() -> 0.25392122
A3: 8 | B3: 202G039 | C3: 近藤 大晴 | D3: =RAND() -> 0.86607357
A4: 13 | B4: 202G077 | C4: 森広 ひより | D4: =RAND() -> 0.97914078
A5: 11 | B5: 202G062 | C5: 信川 聖奈 | D5: =RAND() -> 0.14749324
A6: 5 | B6: 202G027 | C6: 加藤 千陽 | D6: =RAND() -> 0.49423617
A7: 14 | B7: 202G078 | C7: 森正 拓実 | D7: =RAND() -> 0.21609848
A8: 7 | B8: 202G038 | C8: 小嶋 梢萌 | D8: =RAND() -> 0.44794856
A9: 4 | B9: 202G016 | C9: 沖本 かれん | D9: =RAND() -> 0.65251473
A10: 3 | B10: 202G007 | C10: 板垣 咲希 | D10: =RAND() -> 0.18869829
A11: 6 | B11: 202G028 | C11: 門脇 尚希 | D11: =RAND() -> 0.17363799
A12: 2 | B12: 202G004 | C12: 有薗 祐馬 | D12: =RAND() -> 0.042605038
A13: 10 | B13: 202G051 | C13: 新家 光史 | D13: =RAND() -> 0.1879164
A14: 9 | B14: 202G042 | C14: 坂田 千珠 | D14: =RAND() -> 0.063314303
A15: 12 | B15: 202G074 | C15: 六車 遥 | D15: =RAND() -> 0.16770574
A16: 15
B20: 202G018 | C20: 奥津 遼祐

Sheet 所要時間
C1: ***所要時間*** | H1: ***ストループ効果*** | L1: ***逆ストループ効果***
A2: 学生番号 | B2: 名前 | C2: Ａカード | D2: Ｂカード | E2: Ｃカード１ | F2: Ｃカード２ | H2: =D2 -> Ｂカード | I2: =E2 -> Ｃカード１ | J2: 効果量 | L2: =C2 -> Ａカード | M2: =F2 -> Ｃカード２ | N2: 効果量
A3: =IF(Subject!B2<>"",Subject!B2,"") -> 172G033 | B3: =IF(Subject!C2<>"",Subject!C2,"") -> 渋谷 優希 | C3: 51 | D3: 89 | E3: 157 | F3: 55 | H3: =IF(D3<>"",D3,"") -> 89 | I3: =IF(E3<>"",E3,"") -> 157 | J3: =IF(I3<>"",I3/H3,"") -> 1.7640449 | L3: =IF(C3<>"",C3,"") -> 51 | M3: =IF(F3<>"",F3,"") -> 55 | N3: =IF(M3<>"",M3/L3,"") -> 1.0784314
A4: =IF(Subject!B3<>"",Subject!B3,"") -> 202G039 | B4: =IF(Subject!C3<>"",Subject!C3,"") -> 近藤 大晴 | C4: 40 | D4: 51 | E4: 68 | F4: 40 | H4: =IF(D4<>"",D4,"") -> 51 | I4: =IF(E4<>"",E4,"") -> 68 | J4: =IF(I4<>"",I4/H4,"") -> 1.3333333 | L4: =IF(C4<>"",C4,"") -> 40 | M4: =IF(F4<>"",F4,"") -> 40 | N4: =IF(M4<>"",M4/L4,"") -> 1
A5: =IF(Subject!B4<>"",Subject!B4,"") -> 202G077 | B5: =IF(Subject!C4<>"",Subject!C4,"") -> 森広 ひより | C5: 50 | D5: 56 | E5: 98 | F5: 48 | H5: =IF(D5<>"",D5,"") -> 56 | I5: =IF(E5<>"",E5,"") -> 98 | J5: =IF(I5<>"",I5/H5,"") -> 1.75 | L5: =IF(C5<>"",C5,"") -> 50 | M5: =IF(F5<>"",F5,"") -> 48 | N5: =IF(M5<>"",M5/L5,"") -> 0.96
A6: =IF(Subject!B5<>"",Subject!B5,"") -> 202G062 | B6: =IF(Subject!C5<>"",Subject!C5,"") -> 信川 聖奈 | C6: 36 | D6: 49 | E6: 73 | F6: 38 | H6: =IF(D6<>"",D6,"") -> 49 | I6: =IF(E6<>"",E6,"") -> 73 | J6: =IF(I6<>"",I6/H6,"") -> 1.4897959 | L6: =IF(C6<>"",C6,"") -> 36 | M6: =IF(F6<>"",F6,"") -> 38 | N6: =IF(M6<>"",M6/L6,"") -> 1.0555556
A7: =IF(Subject!B6<>"",Subject!B6,"") -> 202G027 | B7: =IF(Subject!C6<>"",Subject!C6,"") -> 加藤 千陽 | C7: 34 | D7: 60 | E7: 70 | F7: 40 | H7: =IF(D7<>"",D7,"") -> 60 | I7: =IF(E7<>"",E7,"") -> 70 | J7: =IF(I7<>"",I7/H7,"") -> 1.1666667 | L7: =IF(C7<>"",C7,"") -> 34 | M7: =IF(F7<>"",F7,"") -> 40 | N7: =IF(M7<>"",M7/L7,"") -> 1.1764706
A8: =IF(Subject!B7<>"",Subject!B7,"") -> 202G078 | B8: =IF(Subject!C7<>"",Subject!C7,"") -> 森正 拓実 | C8: 41 | D8: 59 | E8: 104 | F8: 41 | H8: =IF(D8<>"",D8,"") -> 59 | I8: =IF(E8<>"",E8,"") -> 104 | J8: =IF(I8<>"",I8/H8,"") -> 1.7627119 | L8: =IF(C8<>"",C8,"") -> 41 | M8: =IF(F8<>"",F8,"") -> 41 | N8: =IF(M8<>"",M8/L8,"") -> 1
A9: =IF(Subject!B8<>"",Subject!B8,"") -> 202G038 | B9: =IF(Subject!C8<>"",Subject!C8,"") -> 小嶋 梢萌 | C9: 32 | D9: 51 | E9: 98 | F9: 37 | H9: =IF(D9<>"",D9,"") -> 51 | I9: =IF(E9<>"",E9,"") -> 98 | J9: =IF(I9<>"",I9/H9,"") -> 1.9215686 | L9: =IF(C9<>"",C9,"") -> 32 | M9: =IF(F9<>"",F9,"") -> 37 | N9: =IF(M9<>"",M9/L9,"") -> 1.15625
A10: =IF(Subject!B9<>"",Subject!B9,"") -> 202G016 | B10: =IF(Subject!C9<>"",Subject!C9,"") -> 沖本 かれん | C10: 38 | D10: 56 | E10: 78 | F10: 39 | H10: =IF(D10<>"",D10,"") -> 56 | I10: =IF(E10<>"",E10,"") -> 78 | J10: =IF(I10<>"",I10/H10,"") -> 1.3928571 | L10: =IF(C10<>"",C10,"") -> 38 | M10: =IF(F10<>"",F10,"") -> 39 | N10: =IF(M10<>"",M10/L10,"") -> 1.0263158
A11: =IF(Subject!B10<>"",Subject!B10,"") -> 202G007 | B11: =IF(Subject!C10<>"",Subject!C10,"") -> 板垣 咲希 | C11: 37 | D11: 72 | E11: 85 | F11: 40 | H11: =IF(D11<>"",D11,"") -> 72 | I11: =IF(E11<>"",E11,"") -> 85 | J11: =IF(I11<>"",I11/H11,"") -> 1.1805556 | L11: =IF(C11<>"",C11,"") -> 37 | M11: =IF(F11<>"",F11,"") -> 40 | N11: =IF(M11<>"",M11/L11,"") -> 1.0810811
A12: =IF(Subject!B11<>"",Subject!B11,"") -> 202G028 | B12: =IF(Subject!C11<>"",Subject!C11,"") -> 門脇 尚希 | C12: 36 | D12: 72 | E12: 110 | F12: 48 | H12: =IF(D12<>"",D12,"") -> 72 | I12: =IF(E12<>"",E12,"") -> 110 | J12: =IF(I12<>"",I12/H12,"") -> 1.5277778 | L12: =IF(C12<>"",C12,"") -> 36 | M12: =IF(F12<>"",F12,"") -> 48 | N12: =IF(M12<>"",M12/L12,"") -> 1.3333333
A13: =IF(Subject!B12<>"",Subject!B12,"") -> 202G004 | B13: =IF(Subject!C12<>"",Subject!C12,"") -> 有薗 祐馬 | C13: 47 | D13: 75 | E13: 111 | F13: 49 | H13: =IF(D13<>"",D13,"") -> 75 | I13: =IF(E13<>"",E13,"") -> 111 | J13: =IF(I13<>"",I13/H13,"") -> 1.48 | L13: =IF(C13<>"",C13,"") -> 47 | M13: =IF(F13<>"",F13,"") -> 49 | N13: =IF(M13<>"",M13/L13,"") -> 1.0425532
A14: =IF(Subject!B13<>"",Subject!B13,"") -> 202G051 | B14: =IF(Subject!C13<>"",Subject!C13,"") -> 新家 光史 | C14: 42 | D14: 78 | E14: 109 | F14: 63 | H14: =IF(D14<>"",D14,"") -> 78 | I14: =IF(E14<>"",E14,"") -> 109 | J14: =IF(I14<>"",I14/H14,"") -> 1.3974359 | L14: =IF(C14<>"",C14,"") -> 42 | M14: =IF(F14<>"",F14,"") -> 63 | N14: =IF(M14<>"",M14/L14,"") -> 1.5
... A16: =IF(Subject!B15<>"",Subject!B15,"") -> 202G074 | B16: =IF(Subject!C15<>"",Subject!C15,"") -> 六車 遥 | C16: 44 | D16: 73 | E16: 93 | F16: 48 | H16: =IF(D16<>"",D16,"") -> 73 | I16: =IF(E16<>"",E16,"") -> 93 | J16: =IF(I16<>"",I16/H16,"") -> 1.2739726 | L16: =IF(C16<>"",C16,"") -> 44 | M16: =IF(F16<>"",F16,"") -> 48 | N16: =IF(M16<>"",M16/L16,"") -> 1.0909091
A17: =IF(Subject!B16<>"",Subject!B16,"") | B17: =IF(Subject!C16<>"",Subject!C16,"")
A18: =IF(Subject!B18<>"",Subject!B18,"") | B18: =IF(Subject!C18<>"",Subject!C18,"") | H18: =IF(D18<>"",D18,"") | I18: =IF(E18<>"",E18,"") | J18: =IF(I18<>"",I18/H18,"") | L18: =IF(C18<>"",C18,"") | M18: =IF(F18<>"",F18,"") | N18: =IF(M18<>"",M18/L18,"")
C19: =C2 -> Ａカード | D19: =D2 -> Ｂカード | E19: =E2 -> Ｃカード１ | F19: =F2 -> Ｃカード２ | H19: =D19 -> Ｂカード | I19: =E19 -> Ｃカード１ | L19: =C19 -> Ａカード | M19: =F19 -> Ｃカード２
B20: 平均 | C20: =AVERAGE(C3:C18) -> 40.714286 | D20: =AVERAGE(D3:D18) -> 63.857143 | E20: =AVERAGE(E3:E18) -> 94.642857 | F20: =AVERAGE(F3:F18) -> 45 | H20: =D20 -> 63.857143 | I20: =E20 -> 94.642857 | J20: =I20/H20 -> 1.4821029 | L20: =C20 -> 40.714286 | M20: =F20 -> 45 | N20: =M20/L20 -> 1.1052632
B21: 標準偏差 | C21: =STDEVP(C3:C18) -> 5.5604287 | D21: =STDEVP(D3:D18) -> 11.963379 | E21: =STDEVP(E3:E18) -> 23.029817 | F21: =STDEVP(F3:F18) -> 7.1113591 | H21: =D21 -> 11.963379 | I21: =E21 -> 23.029817 | L21: =C21 -> 5.5604287 | M21: =F21 -> 7.1113591
G23: t-検定: 一対の標本による平均の検定ツール | K23: t-検定: 一対の標本による平均の検定ツール
H25: Ｂカード | I25: Ｃカード１ | L25: Ａカード | M25: Ｃカード２
G26: 平均 | H26: 63.857143 | I26: 94.642857 | K26: 平均 | L26: 40.714286 | M26: 45
G27: 分散 | H27: 154.13187 | I27: 571.17033 | K27: 分散 | L27: 33.296703 | M27: 54.461538
G28: 観測数 | H28: 14 | I28: 14 | K28: 観測数 | L28: 14 | M28: 14
G29: ピアソン相関 | H29: 0.78198799 | K29: ピアソン相関 | L29: 0.62681669
G30: 仮説平均との差異 | H30: 0 | K30: 仮説平均との差異 | L30: 0
G31: 自由度 | H31: 13 | K31: 自由度 | L31: 13
G32: t | H32: -7.1265322 | K32: t | L32: -2.7351085
G33: P(T<=t) 片側 | H33: 3.8706211e-06 | K33: P(T<=t) 片側 | L33: 0.0085075083
G34: t 境界値 片側 | H34: 1.7709334 | K34: t 境界値 片側 | L34: 1.7709334
G35: P(T<=t) 両側 | H35: 7.7412423e-06 | K35: P(T<=t) 両側 | L35: 0.017015017
G36: t 境界値 両側 | H36: 2.1603687 | K36: t 境界値 両側 | L36: 2.1603687
G38: ="t("&TEXT(H31,"0")&") = "&TEXT(ABS(H32),"0.00")&", "&IF(H35<0.01,"p < .01",IF(H35<0.05,"p < .05","ns")) -> t(13) = 7.13, p < .01 | K38: ="t("&TEXT(L31,"0")&") = "&TEXT(ABS(L32),"0.00")&", "&IF(L35<0.01,"p < .01",IF(L35<0.05,"p < .05","ns")) -> t(13) = 2.74, p < .05

Sheet 誤反応数
C1: ***誤反応数*** | H1: ***ストループ効果*** | L1: ***逆ストループ効果***
A2: 学生番号 | B2: 名前 | C2: Ａカード | D2: Ｂカード | E2: Ｃカード１ | F2: Ｃカード２ | H2: =D2 -> Ｂカード | I2: =E2 -> Ｃカード１ | J2: 効果量 | L2: =C2 -> Ａカード | M2: =F2 -> Ｃカード２ | N2: 効果量
A3: =IF(Subject!B2<>"",Subject!B2,"") -> 172G033 | B3: =IF(Subject!C2<>"",Subject!C2,"") -> 渋谷 優希 | C3: 2 | D3: 21 | E3: 15 | F3: 1 | H3: =IF(D3<>"",D3,"") -> 21 | I3: =IF(E3<>"",E3,"") -> 15 | J3: =IF(I3<>"",IF(H3>0,I3/H3,""),"") -> 0.71428571 | L3: =IF(C3<>"",C3,"") -> 2 | M3: =IF(F3<>"",F3,"") -> 1 | N3: =IF(M3<>"",IF(L3>0,M3/L3,""),"") -> 0.5
A4: =IF(Subject!B3<>"",Subject!B3,"") -> 202G039 | B4: =IF(Subject!C3<>"",Subject!C3,"") -> 近藤 大晴 | C4: 0 | D4: 0 | E4: 1 | F4: 0 | H4: =IF(D4<>"",D4,"") -> 0 | I4: =IF(E4<>"",E4,"") -> 1 | J4: =IF(I4<>"",IF(H4>0,I4/H4,""),"") | L4: =IF(C4<>"",C4,"") -> 0 | M4: =IF(F4<>"",F4,"") -> 0 | N4: =IF(M4<>"",IF(L4>0,M4/L4,""),"")
A5: =IF(Subject!B4<>"",Subject!B4,"") -> 202G077 | B5: =IF(Subject!C4<>"",Subject!C4,"") -> 森広 ひより | C5: 0 | D5: 0 | E5: 4 | F5: 0 | H5: =IF(D5<>"",D5,"") -> 0 | I5: =IF(E5<>"",E5,"") -> 4 | J5: =IF(I5<>"",IF(H5>0,I5/H5,""),"") | L5: =IF(C5<>"",C5,"") -> 0 | M5: =IF(F5<>"",F5,"") -> 0 | N5: =IF(M5<>"",IF(L5>0,M5/L5,""),"")
A6: =IF(Subject!B5<>"",Subject!B5,"") -> 202G062 | B6: =IF(Subject!C5<>"",Subject!C5,"") -> 信川 聖奈 | C6: 1 | D6: 1 | E6: 1 | F6: 3 | H6: =IF(D6<>"",D6,"") -> 1 | I6: =IF(E6<>"",E6,"") -> 1 | J6: =IF(I6<>"",IF(H6>0,I6/H6,""),"") -> 1 | L6: =IF(C6<>"",C6,"") -> 1 | M6: =IF(F6<>"",F6,"") -> 3 | N6: =IF(M6<>"",IF(L6>0,M6/L6,""),"") -> 3
A7: =IF(Subject!B6<>"",Subject!B6,"") -> 202G027 | B7: =IF(Subject!C6<>"",Subject!C6,"") -> 加藤 千陽 | C7: 0 | D7: 3 | E7: 1 | F7: 3 | H7: =IF(D7<>"",D7,"") -> 3 | I7: =IF(E7<>"",E7,"") -> 1 | J7: =IF(I7<>"",IF(H7>0,I7/H7,""),"") -> 0.33333333 | L7: =IF(C7<>"",C7,"") -> 0 | M7: =IF(F7<>"",F7,"") -> 3 | N7: =IF(M7<>"",IF(L7>0,M7/L7,""),"")
A8: =IF(Subject!B7<>"",Subject!B7,"") -> 202G078 | B8: =IF(Subject!C7<>"",Subject!C7,"") -> 森正 拓実 | C8: 11 | D8: 10 | E8: 8 | F8: 0 | H8: =IF(D8<>"",D8,"") -> 10 | I8: =IF(E8<>"",E8,"") -> 8 | J8: =IF(I8<>"",IF(H8>0,I8/H8,""),"") -> 0.8 | L8: =IF(C8<>"",C8,"") -> 11 | M8: =IF(F8<>"",F8,"") -> 0 | N8: =IF(M8<>"",IF(L8>0,M8/L8,""),"") -> 0
A9: =IF(Subject!B8<>"",Subject!B8,"") -> 202G038 | B9: =IF(Subject!C8<>"",Subject!C8,"") -> 小嶋 梢萌 | C9: 0 | D9: 4 | E9: 5 | F9: 1 | H9: =IF(D9<>"",D9,"") -> 4 | I9: =IF(E9<>"",E9,"") -> 5 | J9: =IF(I9<>"",IF(H9>0,I9/H9,""),"") -> 1.25 | L9: =IF(C9<>"",C9,"") -> 0 | M9: =IF(F9<>"",F9,"") -> 1 | N9: =IF(M9<>"",IF(L9>0,M9/L9,""),"")
A10: =IF(Subject!B9<>"",Subject!B9,"") -> 202G016 | B10: =IF(Subject!C9<>"",Subject!C9,"") -> 沖本 かれん | C10: 0 | D10: 0 | E10: 0 | F10: 0 | H10: =IF(D10<>"",D10,"") -> 0 | I10: =IF(E10<>"",E10,"") -> 0 | J10: =IF(I10<>"",IF(H10>0,I10/H10,""),"") | L10: =IF(C10<>"",C10,"") -> 0 | M10: =IF(F10<>"",F10,"") -> 0 | N10: =IF(M10<>"",IF(L10>0,M10/L10,""),"")
A11: =IF(Subject!B10<>"",Subject!B10,"") -> 202G007 | B11: =IF(Subject!C10<>"",Subject!C10,"") -> 板垣 咲希 | C11: 0 | D11: 5 | E11: 2 | F11: 0 | H11: =IF(D11<>"",D11,"") -> 5 | I11: =IF(E11<>"",E11,"") -> 2 | J11: =IF(I11<>"",IF(H11>0,I11/H11,""),"") -> 0.4 | L11: =IF(C11<>"",C11,"") -> 0 | M11: =IF(F11<>"",F11,"") -> 0 | N11: =IF(M11<>"",IF(L11>0,M11/L11,""),"")
A12: =IF(Subject!B11<>"",Subject!B11,"") -> 202G028 | B12: =IF(Subject!C11<>"",Subject!C11,"") -> 門脇 尚希 | C12: 0 | D12: 3 | E12: 5 | F12: 1 | H12: =IF(D12<>"",D12,"") -> 3 | I12: =IF(E12<>"",E12,"") -> 5 | J12: =IF(I12<>"",IF(H12>0,I12/H12,""),"") -> 1.6666667 | L12: =IF(C12<>"",C12,"") -> 0 | M12: =IF(F12<>"",F12,"") -> 1 | N12: =IF(M12<>"",IF(L12>0,M12/L12,""),"")
A13: =IF(Subject!B12<>"",Subject!B12,"") -> 202G004 | B13: =IF(Subject!C12<>"",Subject!C12,"") -> 有薗 祐馬 | C13: 0 | D13: 1 | E13: 1 | F13: 0 | H13: =IF(D13<>"",D13,"") -> 1 | I13: =IF(E13<>"",E13,"") -> 1 | J13: =IF(I13<>"",IF(H13>0,I13/H13,""),"") -> 1 | L13: =IF(C13<>"",C13,"") -> 0 | M13: =IF(F13<>"",F13,"") -> 0 | N13: =IF(M13<>"",IF(L13>0,M13/L13,""),"")
A14: =IF(Subject!B13<>"",Subject!B13,"") -> 202G051 | B14: =IF(Subject!C13<>"",Subject!C13,"") -> 新家 光史 | C14: 0 | D14: 7 | E14: 3 | F14: 6 | H14: =IF(D14<>"",D14,"") -> 7 | I14: =IF(E14<>"",E14,"") -> 3 | J14: =IF(I14<>"",IF(H14>0,I14/H14,""),"") -> 0.42857143 | L14: =IF(C14<>"",C14,"") -> 0 | M14: =IF(F14<>"",F14,"") -> 6 | N14: =IF(M14<>"",IF(L14>0,M14/L14,""),"")
... A16: =IF(Subject!B15<>"",Subject!B15,"") -> 202G074 | B16: =IF(Subject!C15<>"",Subject!C15,"") -> 六車 遥 | C16: 2 | D16: 5 | E16: 2 | F16: 2 | H16: =IF(D16<>"",D16,"") -> 5 | I16: =IF(E16<>"",E16,"") -> 2 | J16: =IF(I16<>"",IF(H16>0,I16/H16,""),"") -> 0.4 | L16: =IF(C16<>"",C16,"") -> 2 | M16: =IF(F16<>"",F16,"") -> 2 | N16: =IF(M16<>"",IF(L16>0,M16/L16,""),"") -> 1
A17: =IF(Subject!B16<>"",Subject!B16,"") | B17: =IF(Subject!C16<>"",Subject!C16,"")
A18: =IF(Subject!B18<>"",Subject!B18,"") | B18: =IF(Subject!C18<>"",Subject!C18,"") | H18: =IF(D18<>"",D18,"") | I18: =IF(E18<>"",E18,"") | L18: =IF(C18<>"",C18,"") | M18: =IF(F18<>"",F18,"")
C19: =C2 -> Ａカード | D19: =D2 -> Ｂカード | E19: =E2 -> Ｃカード１ | F19: =F2 -> Ｃカード２ | H19: =D19 -> Ｂカード | I19: =E19 -> Ｃカード１ | L19: =C19 -> Ａカード | M19: =F19 -> Ｃカード２
B20: 平均 | C20: =AVERAGE(C3:C18) -> 1.1428571 | D20: =AVERAGE(D3:D18) -> 4.2857143 | E20: =AVERAGE(E3:E18) -> 3.4285714 | F20: =AVERAGE(F3:F18) -> 1.2142857 | H20: =D20 -> 4.2857143 | I20: =E20 -> 3.4285714 | J20: =I20/H20 -> 0.8 | L20: =C20 -> 1.1428571 | M20: =F20 -> 1.2142857 | N20: =M20/L20 -> 1.0625
B21: 標準偏差 | C21: =STDEVP(C3:C18) -> 2.8248171 | D21: =STDEVP(D3:D18) -> 5.4697685 | E21: =STDEVP(E3:E18) -> 3.8861344 | F21: =STDEVP(F3:F18) -> 1.6978378 | H21: =D21 -> 5.4697685 | I21: =E21 -> 3.8861344 | L21: =C21 -> 2.8248171 | M21: =F21 -> 1.6978378
G23: t-検定: 一対の標本による平均の検定ツール | K23: t-検定: 一対の標本による平均の検定ツール
H25: Ｂカード | I25: Ｃカード１ | L25: Ａカード | M25: Ｃカード２
G26: 平均 | H26: 4.2857143 | I26: 3.4285714 | K26: 平均 | L26: 1.1428571 | M26: 1.2142857
G27: 分散 | H27: 32.21978 | I27: 16.263736 | K27: 分散 | L27: 8.5934066 | M27: 3.1043956
G28: 観測数 | H28: 14 | I28: 14 | K28: 観測数 | L28: 14 | M28: 14
G29: ピアソン相関 | H29: 0.90825603 | K29: ピアソン相関 | L29: -0.15531388
G30: 仮説平均との差異 | H30: 0 | K30: 仮説平均との差異 | L30: 0
G31: 自由度 | H31: 13 | K31: 自由度 | L31: 13
G32: t | H32: 1.2208382 | K32: t | L32: -0.073278114
G33: P(T<=t) 片側 | H33: 0.12191418 | K33: P(T<=t) 片側 | L33: 0.47135015
G34: t 境界値 片側 | H34: 1.7709334 | K34: t 境界値 片側 | L34: 1.7709334
G35: P(T<=t) 両側 | H35: 0.24382835 | K35: P(T<=t) 両側 | L35: 0.9427003
G36: t 境界値 両側 | H36: 2.1603687 | K36: t 境界値 両側 | L36: 2.1603687
G38: ="t("&TEXT(H31,"0")&") = "&TEXT(ABS(H32),"0.00")&", "&IF(H35<0.01,"p < .01",IF(H35<0.05,"p < .05","ns")) -> t(13) = 1.22, ns | K38: ="t("&TEXT(L31,"0")&") = "&TEXT(ABS(L32),"0.00")&", "&IF(L35<0.01,"p < .01",IF(L35<0.05,"p < .05","ns")) -> t(13) = 0.07, ns

Sheet Table
B2: Aカード | C2: Bカード | D2: Cカード1 | E2: Cカード2 | F2: ストループ効果量 | G2: 逆ストループ効果量
B3: (A) | C3: (B) | D3: (C1) | E3: (C2) | F3: （C1/B） | G3: （C2/A）
A4: 所要時間(s) | B4: =所要時間!C20 -> 40.714286 | C4: =所要時間!D20 -> 63.857143 | D4: =所要時間!E20 -> 94.642857 | E4: =所要時間!F20 -> 45 | F4: =D4/C4 -> 1.4821029 | G4: =E4/B4 -> 1.1052632
A5: 標準偏差 | B5: =所要時間!C21 -> 5.5604287 | C5: =所要時間!D21 -> 11.963379 | D5: =所要時間!E21 -> 23.029817 | E5: =所要時間!F21 -> 7.1113591
A6: 誤反応数 | B6: =誤反応数!C20 -> 1.1428571 | C6: =誤反応数!D20 -> 4.2857143 | D6: =誤反応数!E20 -> 3.4285714 | E6: =誤反応数!F20 -> 1.2142857 | F6: =D6/C6 -> 0.8 | G6: =E6/B6 -> 1.0625
A7: 標準偏差 | B7: =誤反応数!C21 -> 2.8248171 | C7: =誤反応数!D21 -> 5.4697685 | D7: =誤反応数!E21 -> 3.8861344 | E7: =誤反応数!F21 -> 1.6978378
